BEGIN:VCALENDAR
VERSION:2.0
PRODID:-//hacksw/handcal//NONSGML v1.0//EN
BEGIN:VEVENT
SUMMARY:Matchs du We
UID:8c9b85cd-873d-40b7-9d7b-118ac0b91e8d
DTSTART:20210924T220000Z
DTEND:20210926T220000Z
LOCATION:Localisation   
CATEGORIES:Sportif
STATUS:
DESCRIPTION:<h1>3 matchs ce we</h1>
 
 <p><strong><span
 style="color:#8e44ad;">A domicile :</span></strong></p>
 
 <p>- samedi
 26/09, SG a domicile au gymnase de chabeuil a 20h30 contre
 Seyssinet</p>
 
 <p><span style="color:#8e44ad;"><strong>A l'exterieur
 : </strong></span></p>
 
 <p>- dimanche 27/09, SF1 contre Decines a
 16h</p>
 
 <p>- dimanche 27/09, -18F contre St Marcellin a
 17h</p>
 
 <p><em>Pass sanitaire demande</em></p>
 
URL;VALUE=URI:https://www.hbcchabeuil.com/evenements/2021/09/25/matchs-du-we-1528029
END:VEVENT
END:VCALENDAR
