BEGIN:VCALENDAR
VERSION:2.0
PRODID:-//hacksw/handcal//NONSGML v1.0//EN
BEGIN:VEVENT
SUMMARY:Tournoi -9M : HBCC / LE TEIL / LORIOL / MONTELIMAR
UID:5372e4ed-c6cf-47b7-93f7-156f1d3f2346
DTSTART:20200314T103000Z
DTEND:20200314T123000Z
LOCATION:Gymnase Chabeuil Gymnase des ecoles, rue des ecoles 26120 Chabeuil
CATEGORIES:Sportif
STATUS:
URL;VALUE=URI:https://www.hbcchabeuil.com/evenements/2020/03/14/tournoi-9m-hbcc-le-teil-loriol-montelimar-1381612
END:VEVENT
END:VCALENDAR
