BEGIN:VCALENDAR
VERSION:2.0
PRODID:-//hacksw/handcal//NONSGML v1.0//EN
BEGIN:VEVENT
SUMMARY:Inscription 2018-2019
UID:c2bcff3c-b8b7-4f52-944f-4dac29f00137
DTSTART:20180819T220000Z
DTEND:20181001T220000Z
LOCATION:Localisation   
CATEGORIES:Administratif
STATUS:
DESCRIPTION:<p>Ca y est l'ete est fini et il est temps de penser aux
 inscriptions.</p>
 
 <p>Retrouvez les <strong>creneaux/horaires des
 entrainements</strong> ainsi que les <strong>tarifs</strong>
 2018-2019 en <strong><a
 href="https://www.hbcchabeuil.com/saison-2019-2020/documents"
 target="_blank" rel="noreferrer noopener"><span
 style="color:#ff66ff;">cliquant ici</span><span
 style="color:#9933cc;">.</span></a></strong><br />
 <br />
 1. Pour
 les<span style="color:#800080;"> </span><span
 style="color:#800080;"><strong>"anciens" licencies</strong></span>
 2017-2018, vous avez recu ou allez recevoir un lien par mail pour
 vous reinscrire directement, suivez les instructions qui vous seront
 donnees.</p>
 
 <p><br />
 2. Pour les <strong><span
 style="color:#800080;">nouvelles inscriptions</span></strong>, vous
 trouverez tous les <strong>documents necessaires</strong> pour
 preparer votre inscription :<br />
 - Autorisation parentale<br />
 -
 Certificat medical</p>
 
 <p>Pour <strong>acceder aux documents <a
 href="https://www.hbcchabeuil.com/saison-2019-2020/documents"
 target="_blank" rel="noreferrer noopener"><span
 style="color:#ff33ff;">cliquez ici</span></a></strong></p>
 
 <p>Une
 fois votre decision prise, il faudra envoyer par mail <strong>vos nom
 - prenom- date de naissance et adresse email</strong> valide a
 5126030@ffhandball.net</p>
 
 <p>Dans un premier temps vous devrez
 confirmer votre adresse email puis un lien vous sera envoye afin de
 finaliser l'inscription.</p>
 
 <p>Le reglement quand a lui devra se
 faire lors des seances d'entrainements du mois de
 septembre.</p>
 
 <p><strong><span style="color:#800080;">POUR TOUS,
 N'OUBLIEZ PAS D'IMPRIMER, DE RENSEIGNER et RENDRE LE FORMULAIRE "<a
 href="https://www.hbcchabeuil.com/saison-2018-2019/documents"
 target="_blank" rel="noreferrer noopener">DROIT A L'IMAGE</a>". A
 donner avec votre reglement.</span></strong></p>
 
 <p
 style="text-align:center;"><u>                        
                           </u></p>
 
 <p>Le HBCC sera
 present lors du forum des associations au centre culturel de Chabeuil
 le vendredi 7 septembre a partir de 16h30 (<a
 href="http://www.mairie-chabeuil.com/Un-forum-pour-des-associations-dynamiques.html"
 target="_blank" rel="noreferrer
 noopener">http://www.mairie-chabeuil.com/Un-forum-pour-des-associations-dynamiques.html</a>),
 n'hesitez pas a venir nous rencontrer pour poser toutes vos
 questions.</p>
 
 <p>Les entrainements ont repris le<strong> lundi
 3/09</strong> pour tous les collectifs.<br />
 Sachez qu'il est
 possible de faire quelques seances d'essai lors des 1ers
 entrainements afin de confirmer sereinement votre
 inscription.</p>
 
 <p>En esperant vous retrouver en tant que licencies
 du HBCC, bonne reprise a tous !</p>
 
URL;VALUE=URI:https://www.hbcchabeuil.com/evenements/2018/08/20/inscription-2018-2019-1088975
END:VEVENT
END:VCALENDAR
