BEGIN:VCALENDAR
VERSION:2.0
PRODID:-//hacksw/handcal//NONSGML v1.0//EN
BEGIN:VEVENT
SUMMARY:Tournoi HBCC -9 mixte/Charmes/Guilherand/Livron
UID:214243d6-51e1-4051-843a-0c5fa7c3c867
DTSTART:20180203T100000Z
DTEND:20180203T120000Z
LOCATION:Gymnase Chabeuil Gymnase des ecoles, rue des ecoles 26120 Chabeuil
CATEGORIES:Sportif
STATUS:
URL;VALUE=URI:https://www.hbcchabeuil.com/evenements/2018/02/03/tournoi-hbcc-9-mixtecharmesguilherandlivron-1048705
END:VEVENT
END:VCALENDAR
