BEGIN:VCALENDAR
VERSION:2.0
PRODID:-//hacksw/handcal//NONSGML v1.0//EN
BEGIN:VEVENT
SUMMARY:Galette des rois et tirage au sort des gagnants de la tombola
UID:9c3caddd-1182-4822-8d32-a340a651aaae
DTSTART:20180128T153000Z
DTEND:20180128T183000Z
LOCATION:Gymnase Chabeuil Gymnase des ecoles, rue des ecoles 26120 Chabeuil
CATEGORIES:Festif
STATUS:
DESCRIPTION:<p>La commission Animations propose un moment convivial
 pour tous les licencies du club, nous aurons plaisir a nous retrouvez
 pour "tirer" les rois et deguster d'excellentes
 galettes.</p>
 
 <p>Suite a la vente de cases de tombola avant les
 vacances, 2 lots sont toujours en jeu... un sac Kempa (case a 1€)
 ou une Tele Samsung ecran plat (case a 2€), nous profiterons donc
 de ce moment pour proceder au tirage au sort des
 gagnants.</p>
 
 <p>Notre equipe garcons senior 1 recoit Tournon Vion
 ce meme jour a 14h30, profitez en pour venir voir un match sympa et
 encourager votre Club...</p>
 
 <p>Venez nombreux !</p>
 
URL;VALUE=URI:https://www.hbcchabeuil.com/evenements/2018/01/28/galette-des-rois-et-tirage-au-sort-des-gagnants-de-la-tombola-1037872
END:VEVENT
END:VCALENDAR
